BEGIN:VCALENDAR
VERSION:2.0
PRODID:-//Various Voices - ECPv6.15.14//NONSGML v1.0//EN
CALSCALE:GREGORIAN
METHOD:PUBLISH
X-WR-CALNAME:Various Voices
X-ORIGINAL-URL:https://various-voices.be
X-WR-CALDESC:Evenementen voor Various Voices
REFRESH-INTERVAL;VALUE=DURATION:PT1H
X-Robots-Tag:noindex
X-PUBLISHED-TTL:PT1H
BEGIN:VTIMEZONE
TZID:Europe/Paris
BEGIN:DAYLIGHT
TZOFFSETFROM:+0100
TZOFFSETTO:+0200
TZNAME:CEST
DTSTART:20250330T010000
END:DAYLIGHT
BEGIN:STANDARD
TZOFFSETFROM:+0200
TZOFFSETTO:+0100
TZNAME:CET
DTSTART:20251026T010000
END:STANDARD
BEGIN:DAYLIGHT
TZOFFSETFROM:+0100
TZOFFSETTO:+0200
TZNAME:CEST
DTSTART:20260329T010000
END:DAYLIGHT
BEGIN:STANDARD
TZOFFSETFROM:+0200
TZOFFSETTO:+0100
TZNAME:CET
DTSTART:20261025T010000
END:STANDARD
BEGIN:DAYLIGHT
TZOFFSETFROM:+0100
TZOFFSETTO:+0200
TZNAME:CEST
DTSTART:20270328T010000
END:DAYLIGHT
BEGIN:STANDARD
TZOFFSETFROM:+0200
TZOFFSETTO:+0100
TZNAME:CET
DTSTART:20271031T010000
END:STANDARD
END:VTIMEZONE
BEGIN:VEVENT
DTSTART;TZID=Europe/Paris:20260625T210000
DTEND;TZID=Europe/Paris:20260625T223000
DTSTAMP:20260423T163856
CREATED:20260420T034028Z
LAST-MODIFIED:20260423T013731Z
UID:8645-1782421200-1782426600@various-voices.be
SUMMARY:Let's dance! - session 2
DESCRIPTION:
URL:https://various-voices.be/nl/event/lets-dance-session-2-nl/
END:VEVENT
BEGIN:VEVENT
DTSTART;TZID=Europe/Paris:20260625T210000
DTEND;TZID=Europe/Paris:20260625T221500
DTSTAMP:20260423T163856
CREATED:20260313T082812Z
LAST-MODIFIED:20260423T000308Z
UID:7454-1782421200-1782425700@various-voices.be
SUMMARY:The Treachery of Images - Show 2
DESCRIPTION:
URL:https://various-voices.be/nl/event/the-treachery-of-images-show-2-nl/
END:VEVENT
BEGIN:VEVENT
DTSTART;TZID=Europe/Paris:20260625T200000
DTEND;TZID=Europe/Paris:20260625T203000
DTSTAMP:20260423T163856
CREATED:20260313T084736Z
LAST-MODIFIED:20260423T005940Z
UID:7940-1782417600-1782419400@various-voices.be
SUMMARY:schmaz - schwuler männerchor zürich
DESCRIPTION:
URL:https://various-voices.be/nl/event/schmaz-schwuler-mannerchor-zurich-nl-2/
END:VEVENT
BEGIN:VEVENT
DTSTART;TZID=Europe/Paris:20260625T193000
DTEND;TZID=Europe/Paris:20260625T200000
DTSTAMP:20260423T163856
CREATED:20260313T084734Z
LAST-MODIFIED:20260423T005945Z
UID:7937-1782415800-1782417600@various-voices.be
SUMMARY:Oxford Proud Voices
DESCRIPTION:
URL:https://various-voices.be/nl/event/oxford-proud-voices-nl-2/
END:VEVENT
BEGIN:VEVENT
DTSTART;TZID=Europe/Paris:20260625T190000
DTEND;TZID=Europe/Paris:20260625T193000
DTSTAMP:20260423T163856
CREATED:20260313T084730Z
LAST-MODIFIED:20260423T005949Z
UID:7934-1782414000-1782415800@various-voices.be
SUMMARY:Manchester Proud Chorus
DESCRIPTION:
URL:https://various-voices.be/nl/event/manchester-proud-chorus-nl-2/
END:VEVENT
BEGIN:VEVENT
DTSTART;TZID=Europe/Paris:20260625T183000
DTEND;TZID=Europe/Paris:20260625T200000
DTSTAMP:20260423T163856
CREATED:20260420T034026Z
LAST-MODIFIED:20260423T013733Z
UID:8642-1782412200-1782417600@various-voices.be
SUMMARY:Let's dance! - session 1
DESCRIPTION:
URL:https://various-voices.be/nl/event/lets-dance-session-1-nl/
END:VEVENT
BEGIN:VEVENT
DTSTART;TZID=Europe/Paris:20260625T183000
DTEND;TZID=Europe/Paris:20260625T194500
DTSTAMP:20260423T163856
CREATED:20260313T082749Z
LAST-MODIFIED:20260423T000347Z
UID:7451-1782412200-1782416700@various-voices.be
SUMMARY:The Treachery of Images - Show 1
DESCRIPTION:
URL:https://various-voices.be/nl/event/the-treachery-of-images-show-1-nl/
END:VEVENT
BEGIN:VEVENT
DTSTART;TZID=Europe/Paris:20260625T183000
DTEND;TZID=Europe/Paris:20260625T190000
DTSTAMP:20260423T163856
CREATED:20260313T084727Z
LAST-MODIFIED:20260423T005953Z
UID:7931-1782412200-1782414000@various-voices.be
SUMMARY:Pink Singers
DESCRIPTION:
URL:https://various-voices.be/nl/event/pink-singers-nl-2/
END:VEVENT
BEGIN:VEVENT
DTSTART;TZID=Europe/Paris:20260625T180500
DTEND;TZID=Europe/Paris:20260625T183500
DTSTAMP:20260423T163856
CREATED:20260313T084315Z
LAST-MODIFIED:20260423T005204Z
UID:7823-1782410700-1782412500@various-voices.be
SUMMARY:Haags Homomannenkoor Vox Rosa
DESCRIPTION:
URL:https://various-voices.be/nl/event/haags-homomannenkoor-vox-rosa-nl/
END:VEVENT
BEGIN:VEVENT
DTSTART;TZID=Europe/Paris:20260625T180500
DTEND;TZID=Europe/Paris:20260625T183500
DTSTAMP:20260423T163856
CREATED:20260313T082939Z
LAST-MODIFIED:20260423T000756Z
UID:7490-1782410700-1782412500@various-voices.be
SUMMARY:Männer-Minne Schwuler männerchor Berlin
DESCRIPTION:
URL:https://various-voices.be/nl/event/manner-minne-schwuler-mannerchor-berlin-nl/
END:VEVENT
BEGIN:VEVENT
DTSTART;TZID=Europe/Paris:20260625T180500
DTEND;TZID=Europe/Paris:20260625T183500
DTSTAMP:20260423T163856
CREATED:20260313T082937Z
LAST-MODIFIED:20260423T000758Z
UID:7487-1782410700-1782412500@various-voices.be
SUMMARY:Mannenakkoord
DESCRIPTION:
URL:https://various-voices.be/nl/event/mannenakkoord-nl/
END:VEVENT
BEGIN:VEVENT
DTSTART;TZID=Europe/Paris:20260625T180500
DTEND;TZID=Europe/Paris:20260625T183500
DTSTAMP:20260423T163856
CREATED:20260313T082636Z
LAST-MODIFIED:20260423T000129Z
UID:7430-1782410700-1782412500@various-voices.be
SUMMARY:Krakofonia
DESCRIPTION:
URL:https://various-voices.be/nl/event/krakofonia-nl/
END:VEVENT
BEGIN:VEVENT
DTSTART;TZID=Europe/Paris:20260625T180000
DTEND;TZID=Europe/Paris:20260625T193000
DTSTAMP:20260423T163856
CREATED:20260420T033913Z
LAST-MODIFIED:20260423T013309Z
UID:8612-1782410400-1782415800@various-voices.be
SUMMARY:Feminist guided tour of the Brussels Beguinage - Jeudi 25 in EN
DESCRIPTION:
URL:https://various-voices.be/nl/event/feminist-guided-tour-of-the-brussels-beguinage-jeudi-25-in-en-nl/
END:VEVENT
BEGIN:VEVENT
DTSTART;TZID=Europe/Paris:20260625T173000
DTEND;TZID=Europe/Paris:20260625T180000
DTSTAMP:20260423T163856
CREATED:20260313T084313Z
LAST-MODIFIED:20260423T005207Z
UID:7820-1782408600-1782410400@various-voices.be
SUMMARY:London Gay Men's Chorus Ensemble
DESCRIPTION:
URL:https://various-voices.be/nl/event/london-gay-mens-chorus-ensemble-nl/
END:VEVENT
BEGIN:VEVENT
DTSTART;TZID=Europe/Paris:20260625T173000
DTEND;TZID=Europe/Paris:20260625T180000
DTSTAMP:20260423T163856
CREATED:20260313T082934Z
LAST-MODIFIED:20260423T000802Z
UID:7484-1782408600-1782410400@various-voices.be
SUMMARY:Barcelona Rainbow Singers
DESCRIPTION:
URL:https://various-voices.be/nl/event/barcelona-rainbow-singers-nl/
END:VEVENT
BEGIN:VEVENT
DTSTART;TZID=Europe/Paris:20260625T173000
DTEND;TZID=Europe/Paris:20260625T180000
DTSTAMP:20260423T163856
CREATED:20260313T082931Z
LAST-MODIFIED:20260423T000806Z
UID:7481-1782408600-1782410400@various-voices.be
SUMMARY:De Homofone
DESCRIPTION:
URL:https://various-voices.be/nl/event/de-homofone-nl/
END:VEVENT
BEGIN:VEVENT
DTSTART;TZID=Europe/Paris:20260625T173000
DTEND;TZID=Europe/Paris:20260625T180000
DTSTAMP:20260423T163856
CREATED:20260313T082634Z
LAST-MODIFIED:20260423T000133Z
UID:7427-1782408600-1782410400@various-voices.be
SUMMARY:Brighton Gay Men's Chorus
DESCRIPTION:
URL:https://various-voices.be/nl/event/brighton-gay-mens-chorus-nl/
END:VEVENT
BEGIN:VEVENT
DTSTART;TZID=Europe/Paris:20260625T165500
DTEND;TZID=Europe/Paris:20260625T172500
DTSTAMP:20260423T163856
CREATED:20260313T084238Z
LAST-MODIFIED:20260423T005209Z
UID:7817-1782406500-1782408300@various-voices.be
SUMMARY:Kor Hen
DESCRIPTION:
URL:https://various-voices.be/nl/event/kor-hen-nl/
END:VEVENT
BEGIN:VEVENT
DTSTART;TZID=Europe/Paris:20260625T165500
DTEND;TZID=Europe/Paris:20260625T172500
DTSTAMP:20260423T163856
CREATED:20260313T082928Z
LAST-MODIFIED:20260423T000810Z
UID:7478-1782406500-1782408300@various-voices.be
SUMMARY:Melodiva - Lebenschor München
DESCRIPTION:
URL:https://various-voices.be/nl/event/melodiva-lebenschor-munchen-nl/
END:VEVENT
BEGIN:VEVENT
DTSTART;TZID=Europe/Paris:20260625T165500
DTEND;TZID=Europe/Paris:20260625T172500
DTSTAMP:20260423T163856
CREATED:20260313T082926Z
LAST-MODIFIED:20260423T000813Z
UID:7475-1782406500-1782408300@various-voices.be
SUMMARY:dieLirums
DESCRIPTION:
URL:https://various-voices.be/nl/event/dielirums-nl/
END:VEVENT
BEGIN:VEVENT
DTSTART;TZID=Europe/Paris:20260625T165500
DTEND;TZID=Europe/Paris:20260625T172500
DTSTAMP:20260423T163856
CREATED:20260313T082631Z
LAST-MODIFIED:20260423T000136Z
UID:7424-1782406500-1782408300@various-voices.be
SUMMARY:OurSong Atlanta
DESCRIPTION:
URL:https://various-voices.be/nl/event/oursong-atlanta-nl/
END:VEVENT
BEGIN:VEVENT
DTSTART;TZID=Europe/Paris:20260625T162000
DTEND;TZID=Europe/Paris:20260625T165000
DTSTAMP:20260423T163856
CREATED:20260313T084236Z
LAST-MODIFIED:20260423T004903Z
UID:7814-1782404400-1782406200@various-voices.be
SUMMARY:Le Choeur Gay de Toulouse
DESCRIPTION:
URL:https://various-voices.be/nl/event/le-choeur-gay-de-toulouse-nl/
END:VEVENT
BEGIN:VEVENT
DTSTART;TZID=Europe/Paris:20260625T162000
DTEND;TZID=Europe/Paris:20260625T165000
DTSTAMP:20260423T163856
CREATED:20260313T082923Z
LAST-MODIFIED:20260423T000816Z
UID:7472-1782404400-1782406200@various-voices.be
SUMMARY:Queer Voices Glasgow
DESCRIPTION:
URL:https://various-voices.be/nl/event/queer-voices-glasgow-nl/
END:VEVENT
BEGIN:VEVENT
DTSTART;TZID=Europe/Paris:20260625T162000
DTEND;TZID=Europe/Paris:20260625T165000
DTSTAMP:20260423T163856
CREATED:20260313T082920Z
LAST-MODIFIED:20260423T000820Z
UID:7469-1782404400-1782406200@various-voices.be
SUMMARY:Laura and the Lesbians
DESCRIPTION:
URL:https://various-voices.be/nl/event/laura-and-the-lesbians-nl/
END:VEVENT
BEGIN:VEVENT
DTSTART;TZID=Europe/Paris:20260625T162000
DTEND;TZID=Europe/Paris:20260625T165000
DTSTAMP:20260423T163856
CREATED:20260313T082628Z
LAST-MODIFIED:20260423T000140Z
UID:7421-1782404400-1782406200@various-voices.be
SUMMARY:Loud and Proud Scotland
DESCRIPTION:
URL:https://various-voices.be/nl/event/loud-and-proud-scotland-nl/
END:VEVENT
BEGIN:VEVENT
DTSTART;TZID=Europe/Paris:20260625T154500
DTEND;TZID=Europe/Paris:20260625T161500
DTSTAMP:20260423T163856
CREATED:20260313T084233Z
LAST-MODIFIED:20260423T004910Z
UID:7811-1782402300-1782404100@various-voices.be
SUMMARY:Coro Canone Inverso
DESCRIPTION:
URL:https://various-voices.be/nl/event/coro-canone-inverso-nl/
END:VEVENT
BEGIN:VEVENT
DTSTART;TZID=Europe/Paris:20260625T154500
DTEND;TZID=Europe/Paris:20260625T161500
DTSTAMP:20260423T163856
CREATED:20260313T082918Z
LAST-MODIFIED:20260423T000825Z
UID:7466-1782402300-1782404100@various-voices.be
SUMMARY:Podium Paris
DESCRIPTION:
URL:https://various-voices.be/nl/event/podium-paris-nl/
END:VEVENT
BEGIN:VEVENT
DTSTART;TZID=Europe/Paris:20260625T154500
DTEND;TZID=Europe/Paris:20260625T161500
DTSTAMP:20260423T163856
CREATED:20260313T082915Z
LAST-MODIFIED:20260423T000829Z
UID:7463-1782402300-1782404100@various-voices.be
SUMMARY:Schwubs - Schwule Berner Sänger
DESCRIPTION:
URL:https://various-voices.be/nl/event/schwubs-schwule-berner-sanger-nl/
END:VEVENT
BEGIN:VEVENT
DTSTART;TZID=Europe/Paris:20260625T154500
DTEND;TZID=Europe/Paris:20260625T161500
DTSTAMP:20260423T163856
CREATED:20260313T082626Z
LAST-MODIFIED:20260423T000144Z
UID:7418-1782402300-1782404100@various-voices.be
SUMMARY:South Wales Gay Men's Chorus
DESCRIPTION:
URL:https://various-voices.be/nl/event/south-wales-gay-mens-chorus-nl/
END:VEVENT
BEGIN:VEVENT
DTSTART;TZID=Europe/Paris:20260625T151000
DTEND;TZID=Europe/Paris:20260625T154000
DTSTAMP:20260423T163856
CREATED:20260313T084230Z
LAST-MODIFIED:20260423T004915Z
UID:7808-1782400200-1782402000@various-voices.be
SUMMARY:Sweet & Power
DESCRIPTION:
URL:https://various-voices.be/nl/event/sweet-power-nl/
END:VEVENT
END:VCALENDAR